Workbook

Sheet Instructions
A1: Instructions
A2: 1. Les onglets bleus calculent le rendement de votre portefeuille sur une année tout en tenant compte des entrées et des sorties de fonds
A3: Mettez les contributions en négatif et les retraits en positif.
A4: Les mois représentent le début ceux-ci.
A5: ex: Si vous mettez un montant négatif en février, cela implique qu'il s'agissait d'une contribution en début février ou fin janvier
A6: ex: Si vous contribuez en mi-juin, vous pouvez mettre 50% du montant négatif en juin et l'autre 50% négatif en juillet pour représenter un milieu de mois
A7: Le résultat de l'année précédente (31 déc 2019 pour calculer 2020) est l'équivalent d'une contribution (valeur négative) en janvier 2020 pour les fins du calcul, mais ne doit pas être ajouté dans la cellule D16
A8: Le résultat au 31 décembre de l'année (31 déc 2020 pour calculer 2020) est l'équivalent d'un retrait (valeur positive) pour les fins du calcul
A9: On ne doit pas entrer toutes nos transactions de notre portefeuille, uniquement les retraits et les contributions
A10: Dans la cellule D16 de votre première année, n'incluez pas votre contribution initiale.
A11: Ex: vous avez commencez à investir en février 2017 et vous avez contribuer 10K et vous avez contribuer 2K$ en juin. Le montant de vos contributions en D16 est 2K$
A13: 2. Si vous n'utilisez pas un onglet bleu, par exemple, vous n'avez pas de données pour 2016, assurez-vous que toutes les données en jaune dans "TRI 2016" soient à 0 et que la case verte en G1 affiche "#NUM"
... A36: https://www.inovestor.com/

Sheet Indices
A1: Année | B1: 100% obligations | C1: 10% Actions / 90% obligations | D1: 20% Actions / 80% obligations | E1: 30% Actions / 70% obligations | F1: 40% Actions / 60% obligations | G1: 50% Actions / 50% obligations | H1: 60% Actions / 40% obligations | I1: 70% Actions / 30% obligations | J1: 80% Actions / 20% obligations | K1: 90% Actions / 10% obligations | L1: 100% Actions
A2: 2010 | B2: 0.0445 | C2: 0.047191771 | D2: 0.049883542 | E2: 0.052575313 | F2: 0.055267084 | G2: 0.057958854 | H2: 0.060650625 | I2: 0.063342396 | J2: 0.066034167 | K2: 0.068725938 | L2: 0.071417709
A3: 2011 | B3: 0.092897294 | C3: 0.077695112 | D3: 0.06249293 | E3: 0.047290748 | F3: 0.032088565 | G3: 0.016886383 | H3: 0.0016842013 | I3: -0.013517981 | J3: -0.028720163 | K3: -0.043922345 | L3: -0.059124527
A4: 2012 | B4: 0.031559489 | C4: 0.042187536 | D4: 0.052815584 | E4: 0.063443631 | F4: 0.074071679 | G4: 0.084699726 | H4: 0.095327774 | I4: 0.10595582 | J4: 0.11658387 | K4: 0.12721192 | L4: 0.13783996
A5: 2013 | B5: -0.016062257 | C5: 0.016546873 | D5: 0.049156003 | E5: 0.081765133 | F5: 0.11437426 | G5: 0.14698339 | H5: 0.17959252 | I5: 0.21220165 | J5: 0.24481078 | K5: 0.27741991 | L5: 0.31002904
A6: 2014 | B6: 0.086162386 | C6: 0.090741716 | D6: 0.095321047 | E6: 0.099900378 | F6: 0.10447971 | G6: 0.10905904 | H6: 0.11363837 | I6: 0.1182177 | J6: 0.12279703 | K6: 0.12737636 | L6: 0.13195569
A7: 2015 | B7: 0.032127959 | C7: 0.045811304 | D7: 0.059494648 | E7: 0.073177992 | F7: 0.086861337 | G7: 0.10054468 | H7: 0.11422803 | I7: 0.12791137 | J7: 0.14159471 | K7: 0.15527806 | L7: 0.1689614
A8: 2016 | B8: 0.018056 | C8: 0.021569095 | D8: 0.02508219 | E8: 0.028595285 | F8: 0.03210838 | G8: 0.035621475 | H8: 0.039134569 | I8: 0.042647664 | J8: 0.046160759 | K8: 0.049673854 | L8: 0.053186949
A9: 2017 | B9: 0.024545621 | C9: 0.038005819 | D9: 0.051466018 | E9: 0.064926216 | F9: 0.078386414 | G9: 0.091846613 | H9: 0.10530681 | I9: 0.11876701 | J9: 0.13222721 | K9: 0.14568741 | L9: 0.1591476
A10: 2018 | B10: 0.011154369 | C10: 0.0085547587 | D10: 0.0059551485 | E10: 0.0033555382 | F10: 0.00075592795 | G10: -0.0018436823 | H10: -0.0044432926 | I10: -0.0070429028 | J10: -0.0096425131 | K10: -0.012242123 | L10: -0.014841734
A11: 2019 | B11: 0.068417974 | C11: 0.082948771 | D11: 0.097479569 | E11: 0.11201037 | F11: 0.12654116 | G11: 0.14107196 | H11: 0.15560276 | I11: 0.17013355 | J11: 0.18466435 | K11: 0.19919515 | L11: 0.21372595
A12: 2020 | B12: 0.080618971 | C12: 0.086133383 | D12: 0.091647794 | E12: 0.097162206 | F12: 0.10267662 | G12: 0.10819103 | H12: 0.11370544 | I12: 0.11921985 | J12: 0.12473426 | K12: 0.13024867 | L12: 0.13576309
A13: 2021 | B13: -0.026004607 | C13: -0.0048010671 | D13: 0.016402473 | E13: 0.037606013 | F13: 0.058809553 | G13: 0.080013093 | H13: 0.10121663 | I13: 0.12242017 | J13: 0.14362371 | K13: 0.16482725 | L13: 0.18603079

Sheet Rendements
A1: Année | B1: Mon portefeuille | C1: 60% Actions / 40% obligations | D1: Alpha | E1: "Cash return" | F1: Rendement cumulatif | G1: Rendement cumulatif "cash return" | H1: Rendement cumulatif indice
A2: 2010 | B2: =IFERROR('TRI 2010'!G1,"") | C2: =IF(B2="","",HLOOKUP($C$1,Indices!A:L,2,FALSE)) | D2: =IFERROR(B2-C2,"") | E2: =IFERROR('Gains et contributions'!E2/('Gains et contributions'!E1+'Gains et contributions'!C2)-1,IFERROR('Gains et contributions'!D2/('Gains et contributions'!B2+'Gains et contributions'!C2),"")) | F2: =IFERROR((1+B2),"N/A") -> N/A | G2: =IFERROR((1+E2),"N/A") -> N/A | H2: =IFERROR((1+C2),"N/A") -> N/A
A3: 2011 | B3: =IFERROR('TRI 2011'!G1,"") | C3: =IF(B3="","",HLOOKUP($C$1,Indices!A:L,3,FALSE)) | D3: =IFERROR(B3-C3,"") | E3: =IFERROR('Gains et contributions'!E3/('Gains et contributions'!E2+'Gains et contributions'!C3)-1,IFERROR('Gains et contributions'!D3/('Gains et contributions'!B3+'Gains et contributions'!C3),"")) | F3: =IFERROR(IF(F2<>"N/A",(1+B3)*F2,(1+B3)),"N/A") -> N/A | G3: =IFERROR(IF(G2<>"N/A",(1+E3)*G2,(1+D3)),"N/A") -> N/A | H3: =IFERROR(IF(H2<>"N/A",(1+C3)*H2,(1+C3)),"N/A") -> N/A
A4: 2012 | B4: =IFERROR('TRI 2012'!G1,"") | C4: =IF(B4="","",HLOOKUP($C$1,Indices!A:L,4,FALSE)) | D4: =IFERROR(B4-C4,"") | E4: =IFERROR('Gains et contributions'!E4/('Gains et contributions'!E3+'Gains et contributions'!C4)-1,IFERROR('Gains et contributions'!D4/('Gains et contributions'!B4+'Gains et contributions'!C4),"")) | F4: =IFERROR(IF(F3<>"N/A",(1+B4)*F3,(1+B4)),"N/A") -> N/A | G4: =IFERROR(IF(G3<>"N/A",(1+E4)*G3,(1+D4)),"N/A") -> N/A | H4: =IFERROR(IF(H3<>"N/A",(1+C4)*H3,(1+C4)),"N/A") -> N/A
A5: 2013 | B5: =IFERROR('TRI 2013'!G1,"") | C5: =IF(B5="","",HLOOKUP($C$1,Indices!A:L,5,FALSE)) | D5: =IFERROR(B5-C5,"") | E5: =IFERROR('Gains et contributions'!E5/('Gains et contributions'!E4+'Gains et contributions'!C5)-1,IFERROR('Gains et contributions'!D5/('Gains et contributions'!B5+'Gains et contributions'!C5),"")) | F5: =IFERROR(IF(F4<>"N/A",(1+B5)*F4,(1+B5)),"N/A") -> N/A | G5: =IFERROR(IF(G4<>"N/A",(1+E5)*G4,(1+D5)),"N/A") -> N/A | H5: =IFERROR(IF(H4<>"N/A",(1+C5)*H4,(1+C5)),"N/A") -> N/A
A6: 2014 | B6: =IFERROR('TRI 2014'!G1,"") | C6: =IF(B6="","",HLOOKUP($C$1,Indices!A:L,6,FALSE)) | D6: =IFERROR(B6-C6,"") | E6: =IFERROR('Gains et contributions'!E6/('Gains et contributions'!E5+'Gains et contributions'!C6)-1,IFERROR('Gains et contributions'!D6/('Gains et contributions'!B6+'Gains et contributions'!C6),"")) | F6: =IFERROR(IF(F5<>"N/A",(1+B6)*F5,(1+B6)),"N/A") -> N/A | G6: =IFERROR(IF(G5<>"N/A",(1+E6)*G5,(1+D6)),"N/A") -> N/A | H6: =IFERROR(IF(H5<>"N/A",(1+C6)*H5,(1+C6)),"N/A") -> N/A
A7: 2015 | B7: =IFERROR('TRI 2015'!G1,"") | C7: =IF(B7="","",HLOOKUP($C$1,Indices!A:L,7,FALSE)) | D7: =IFERROR(B7-C7,"") | E7: =IFERROR('Gains et contributions'!E7/('Gains et contributions'!E6+'Gains et contributions'!C7)-1,IFERROR('Gains et contributions'!D7/('Gains et contributions'!B7+'Gains et contributions'!C7),"")) | F7: =IFERROR(IF(F6<>"N/A",(1+B7)*F6,(1+B7)),"N/A") -> N/A | G7: =IFERROR(IF(G6<>"N/A",(1+E7)*G6,(1+D7)),"N/A") -> N/A | H7: =IFERROR(IF(H6<>"N/A",(1+C7)*H6,(1+C7)),"N/A") -> N/A
A8: 2016 | B8: =IFERROR('TRI 2016'!G1,"") | C8: =IF(B8="","",HLOOKUP($C$1,Indices!A:L,8,FALSE)) | D8: =IFERROR(B8-C8,"") | E8: =IFERROR('Gains et contributions'!E8/('Gains et contributions'!E7+'Gains et contributions'!C8)-1,IFERROR('Gains et contributions'!D8/('Gains et contributions'!B8+'Gains et contributions'!C8),"")) | F8: =IFERROR(IF(F7<>"N/A",(1+B8)*F7,(1+B8)),"N/A") -> N/A | G8: =IFERROR(IF(G7<>"N/A",(1+E8)*G7,(1+D8)),"N/A") -> N/A | H8: =IFERROR(IF(H7<>"N/A",(1+C8)*H7,(1+C8)),"N/A") -> N/A
A9: 2017 | B9: =IFERROR('TRI 2017'!G1,"") | C9: =IF(B9="","",HLOOKUP($C$1,Indices!A:L,9,FALSE)) | D9: =IFERROR(B9-C9,"") | E9: =IFERROR('Gains et contributions'!E9/('Gains et contributions'!E8+'Gains et contributions'!C9)-1,IFERROR('Gains et contributions'!D9/('Gains et contributions'!B9+'Gains et contributions'!C9),"")) | F9: =IFERROR(IF(F8<>"N/A",(1+B9)*F8,(1+B9)),"N/A") -> N/A | G9: =IFERROR(IF(G8<>"N/A",(1+E9)*G8,(1+D9)),"N/A") -> N/A | H9: =IFERROR(IF(H8<>"N/A",(1+C9)*H8,(1+C9)),"N/A") -> N/A
A10: 2018 | B10: =IFERROR('TRI 2018'!G1,"") -> -0.055196711 | C10: =IF(B10="","",HLOOKUP($C$1,Indices!A:L,10,FALSE)) -> -0.0044432926 | D10: =IFERROR(B10-C10,"") -> -0.050753418 | E10: =IFERROR('Gains et contributions'!E10/('Gains et contributions'!E9+'Gains et contributions'!C10)-1,IFERROR('Gains et contributions'!D10/('Gains et contributions'!B10+'Gains et contributions'!C10),"")) -> -0.047619048 | F10: =IFERROR(IF(F9<>"N/A",(1+B10)*F9,(1+B10)),"N/A") -> 0.94480329 | G10: =IFERROR(IF(G9<>"N/A",(1+E10)*G9,(1+D10)),"N/A") -> 0.94924658 | H10: =IFERROR(IF(H9<>"N/A",(1+C10)*H9,(1+C10)),"N/A") -> 0.99555671
A11: 2019 | B11: =IFERROR('TRI 2019'!G1,"") -> 0.31054124 | C11: =IF(B11="","",HLOOKUP($C$1,Indices!A:L,11,FALSE)) -> 0.15560276 | D11: =IFERROR(B11-C11,"") -> 0.15493848 | E11: =IFERROR('Gains et contributions'!E11/('Gains et contributions'!E10+'Gains et contributions'!C11)-1,IFERROR('Gains et contributions'!D11/('Gains et contributions'!B11+'Gains et contributions'!C11),"")) -> 0.28 | F11: =IFERROR(IF(F10<>"N/A",(1+B11)*F10,(1+B11)),"N/A") -> 1.2382037 | G11: =IFERROR(IF(G10<>"N/A",(1+E11)*G10,(1+D11)),"N/A") -> 1.2150356 | H11: =IF(H10<>"N/A",(1+C11)*H10,(1+C11)) -> 1.1504681
A12: 2020 | B12: =IFERROR('TRI 2020'!G1,"") -> 0.11340494 | C12: =IF(B12="","",HLOOKUP($C$1,Indices!A:L,12,FALSE)) -> 0.11370544 | D12: =IFERROR(B12-C12,"") -> -0.00030050154 | E12: =IFERROR('Gains et contributions'!E12/('Gains et contributions'!E11+'Gains et contributions'!C12)-1,IFERROR('Gains et contributions'!D12/('Gains et contributions'!B12+'Gains et contributions'!C12),"")) -> 0.079365079 | F12: =IFERROR(IF(F11<>"N/A",(1+B12)*F11,(1+B12)),"N/A") -> 1.3786221 | G12: =IFERROR(IF(G11<>"N/A",(1+E12)*G11,(1+D12)),"N/A") -> 1.311467 | H12: =IF(H11<>"N/A",(1+C12)*H11,(1+C12)) -> 1.2812826
A13: 2021 | B13: =IFERROR('TRI 2021'!G1,"") -> 0.011196202 | C13: =IF(B13="","",HLOOKUP($C$1,Indices!A:L,13,FALSE)) -> 0.10121663 | D13: =IFERROR(B13-C13,"") -> -0.090020431 | E13: =IFERROR('Gains et contributions'!E13/('Gains et contributions'!E12+'Gains et contributions'!C13)-1,IFERROR('Gains et contributions'!D13/('Gains et contributions'!B13+'Gains et contributions'!C13),"")) -> 0.010638298 | F13: =IFERROR(IF(F12<>"N/A",(1+B13)*F12,(1+B13)),"N/A") -> 1.3940574 | G13: =IFERROR(IF(G12<>"N/A",(1+E13)*G12,(1+D13)),"N/A") -> 1.3254188 | H13: =IF(H12<>"N/A",(1+C13)*H12,(1+C13)) -> 1.4109697
A17: Rendement annuel | B17: Mon portefeuille | C17: =C1 -> 60% Actions / 40% obligations | D17: Alpha
A18: 2 dernières années | B18: =IFERROR(FVSCHEDULE(1,$B$12:$B13)^(1/COUNT($B$12:$B13)) -1,"") -> 0.061070613 | C18: =IFERROR(FVSCHEDULE(1,$C$12:$C13)^(1/COUNT($C$12:$C13)) -1,"") -> 0.10744343 | D18: =IFERROR(B18-C18,"") -> -0.046372819
A19: 3 dernières années | B19: =IFERROR(FVSCHEDULE(1,$B$11:$B13)^(1/COUNT($B$11:$B13)) -1,"") -> 0.13844771 | C19: =IFERROR(FVSCHEDULE(1,$C$11:$C13)^(1/COUNT($C$11:$C13)) -1,"") -> 0.1232693 | D19: =IFERROR(B19-C19,"") -> 0.015178406
A20: 4 dernières années | B20: =IFERROR(FVSCHEDULE(1,$B$10:$B13)^(1/COUNT($B$10:$B13)) -1,"") -> 0.086601162 | C20: =IFERROR(FVSCHEDULE(1,$C$10:$C13)^(1/COUNT($C$10:$C13)) -1,"") -> 0.089881846 | D20: =IFERROR(B20-C20,"") -> -0.0032806848
A21: 5 dernières années | B21: =IFERROR(FVSCHEDULE(1,$B$9:$B13)^(1/COUNT(B9:B13)) -1,"") | C21: =IFERROR(FVSCHEDULE(1,$C$9:$C13)^(1/COUNT($C$9:$C13)) -1,"") | D21: =IFERROR(B21-C21,"")
A22: Depuis le début du portefeuille | B22: =F13^(1/COUNT(D2:D13)) -1 -> 0.086601162 | C22: =H13^(1/COUNT(D2:D13)) -1 -> 0.089881846 | D22: =B22-C22 -> -0.0032806848

Sheet Gains et contributions
A1: Année | B1: Montant investi début | C1: Contributions (retraits) | D1: Gains d'investissement | E1: Montant investi fin | F1: Croissance des actifs (%) | G1: Croissance des actifs ($)
A2: 2010 | B2: =IF('TRI 2010'!D2 = 0,"",-'TRI 2010'!D2 ) | C2: =IFERROR(IF('TRI 2010'!G1<>"#NUM!",'TRI 2010'!D16,""),"") | D2: =(IF(B2="","",'TRI 2010'!D15)) | E2: =IF(B2="","",'TRI 2010'!$D$14) | F2: =IFERROR(E2/B2 -1,"") | G2: =IFERROR(E2-B2,"")
A3: 2011 | B3: =IF('TRI 2011'!D2 = 0,"",-'TRI 2011'!D2 ) | C3: =IFERROR(IF('TRI 2011'!G1<>"#NUM!",'TRI 2011'!D16,""),"") | D3: =(IF(B3="","",'TRI 2011'!D15)) | E3: =IF(B3="","",'TRI 2011'!$D$14) | F3: =IFERROR(E3/B3 -1,"") | G3: =IFERROR(E3-B3,"")
A4: 2012 | B4: =IF('TRI 2012'!D2 = 0,"",-'TRI 2012'!D2 ) | C4: =IFERROR(IF('TRI 2012'!G1<>"#NUM!",'TRI 2012'!D16,""),"") | D4: =(IF(B4="","",'TRI 2012'!D15)) | E4: =IF(B4="","",'TRI 2012'!$D$14) | F4: =IFERROR(E4/B4 -1,"") | G4: =IFERROR(E4-B4,"")
A5: 2013 | B5: =IF('TRI 2013'!D2 = 0,"",-'TRI 2013'!D2 ) | C5: =IFERROR(IF('TRI 2013'!G1<>"#NUM!",'TRI 2013'!D16,""),"") | D5: =(IF(B5="","",'TRI 2013'!D15)) | E5: =IF(B5="","",'TRI 2013'!$D$14) | F5: =IFERROR(E5/B5 -1,"") | G5: =IFERROR(E5-B5,"")
A6: 2014 | B6: =IF('TRI 2014'!D2 = 0,"",-'TRI 2014'!D2 ) | C6: =IFERROR(IF('TRI 2014'!G1<>"#NUM!",'TRI 2014'!D16,""),"") | D6: =(IF(B6="","",'TRI 2014'!D15)) | E6: =IF(B6="","",'TRI 2014'!$D$14) | F6: =IFERROR(E6/B6 -1,"") | G6: =IFERROR(E6-B6,"")
A7: 2015 | B7: =IF('TRI 2015'!D2 = 0,"",-'TRI 2015'!D2 ) | C7: =IFERROR(IF('TRI 2015'!G1<>"#NUM!",'TRI 2015'!D16,""),"") | D7: =(IF(B7="","",'TRI 2015'!D15)) | E7: =IF(B7="","",'TRI 2015'!$D$14) | F7: =IFERROR(E7/B7 -1,"") | G7: =IFERROR(E7-B7,"")
A8: 2016 | B8: =IF('TRI 2016'!D2 = 0,"",-'TRI 2016'!D2 ) | C8: =IFERROR(IF('TRI 2016'!G1<>"#NUM!",'TRI 2016'!D16,""),"") | D8: =(IF(B8="","",'TRI 2016'!D15)) | E8: =IF(B8="","",'TRI 2016'!$D$14) | F8: =IFERROR(E8/B8 -1,"") | G8: =IFERROR(E8-B8,"")
A9: 2017 | B9: =IF('TRI 2017'!D2 = 0,"",-'TRI 2018'!D2 ) | C9: =IFERROR(IF('TRI 2017'!G1<>"#NUM!",'TRI 2017'!D16,""),"") | D9: =(IF(B9="","",'TRI 2017'!D15)) | E9: =IF(B9="","",'TRI 2017'!$D$14) | F9: =IFERROR(E9/B9 -1,"") | G9: =IFERROR(E9-B9,"")
A10: 2018 | B10: =IF('TRI 2018'!D2 = 0,"",-'TRI 2018'!D2 ) -> 15000 | C10: =IFERROR(IF('TRI 2018'!G1<>"#NUM!",-'TRI 2018'!D16,""),"") -> 6000 | D10: =IF(Rendements!F10="N/A","",E10-B10-C10) -> -1000 | E10: =IF(B10="","",'TRI 2018'!$D$14) -> 20000 | F10: =IFERROR(E10/B10 -1,"") -> 0.33333333 | G10: =IFERROR(E10-B10,"") -> 5000
A11: 2019 | B11: =IF('TRI 2019'!D2 = 0,"",-'TRI 2019'!D2 ) -> 20000 | C11: =IFERROR(IF('TRI 2019'!G1<>"#NUM!",-'TRI 2019'!D16,""),"") -> 5000 | D11: =IF(Rendements!F11="N/A","",E11-B11-C11) -> 7000 | E11: =IF(B11="","",'TRI 2019'!$D$14) -> 32000 | F11: =IFERROR(E11/B11 -1,"") -> 0.6 | G11: =IFERROR(E11-B11,"") -> 12000
A12: 2020 | B12: =IF('TRI 2020'!D2 = 0,"",-'TRI 2020'!D2 ) -> 32000 | C12: =IFERROR(IF('TRI 2020'!G1<>"#NUM!",-'TRI 2020'!D16,""),"") -> -500 | D12: =IF(Rendements!F12="N/A","",E12-B12-C12) -> 2500 | E12: =IF(B12="","",'TRI 2020'!$D$14) -> 34000 | F12: =IFERROR(E12/B12 -1,"") -> 0.0625 | G12: =IFERROR(E12-B12,"") -> 2000
A13: 2021 | B13: =IF('TRI 2021'!D2 = 0,"",-'TRI 2021'!D2 ) -> 40000 | C13: =IFERROR(IF('TRI 2021'!G1<>"#NUM!",-'TRI 2021'!D16,""),"") -> 13000 | D13: =IF(Rendements!F13="N/A","",E13-B13-C13) -> -5500 | E13: =IF(B13="","",'TRI 2021'!$D$14) -> 47500 | F13: =IFERROR(E13/B13 -1,"") -> 0.1875 | G13: =IFERROR(E13-B13,"") -> 7500
E53: =(E52+Rendements!$P$12)*(1+Rendements!$P$11) -> 0
E54: =(E53+Rendements!$P$12)*(1+Rendements!$P$11) -> 0
E55: =(E54+Rendements!$P$12)*(1+Rendements!$P$11) -> 0
E56: =(E55+Rendements!$P$12)*(1+Rendements!$P$11) -> 0
E57: =(E56+Rendements!$P$12)*(1+Rendements!$P$11) -> 0
E58: =(E57+Rendements!$P$12)*(1+Rendements!$P$11) -> 0
E59: =(E58+Rendements!$P$12)*(1+Rendements!$P$11) -> 0
E60: =(E59+Rendements!$P$12)*(1+Rendements!$P$11) -> 0
E61: =(E60+Rendements!$P$12)*(1+Rendements!$P$11) -> 0
E62: =(E61+Rendements!$P$12)*(1+Rendements!$P$11) -> 0
E63: =(E62+Rendements!$P$12)*(1+Rendements!$P$11) -> 0
E64: =(E63+Rendements!$P$12)*(1+Rendements!$P$11) -> 0
... E78: =(E77+Rendements!$P$12)*(1+Rendements!$P$11) -> 0

Sheet TRI 2021
F1: TRI | G1: =(1+IRR(D2:D14))^12 -1 -> 0.011196202
C2: Janvier | D2: =-'TRI 2020'!D14-6000 -> -40000 | E2: Montant au 31 déc 2020 et une contribution de 6K$ en janvier
C3: Février | D3: 0
C4: Mars | D4: 0
C5: Avril | D5: 0
C6: Mai | D6: -7000 | E6: Contribution de 7000$ en début mai
C7: Juin | D7: 0
C8: Juillet | D8: 0
C9: Août | D9: 0
C10: Septembre | D10: 0
C11: Octobre | D11: 0
C12: Novembre | D12: 0
C13: Décembre | D13: 0
C14: Fin | D14: 47500 | E14: Montant au 31 déc 2021
C16: Total des contributions (négatif) et des retraits (positif) | D16: =-7000-6000 -> -13000 | E16: Montant des contributions excluant le montant au 31 déc 2020

Sheet TRI 2020
F1: TRI | G1: =(1+IRR(D2:D14))^12 -1 -> 0.11340494
C2: Janvier | D2: =-'TRI 2019'!D14 -> -32000 | E2: Montant au 31 déc 2019
C3: Février | D3: 0
C4: Mars | D4: 0
C5: Avril | D5: 0
C6: Mai | D6: 0
C7: Juin | D7: 0
C8: Juillet | D8: 2500 | E8: Retrait de 2500$ en fin juin
C9: Août | D9: 0
C10: Septembre | D10: 0
C11: Octobre | D11: 0
C12: Novembre | D12: 0
C13: Décembre | D13: -1000 | E13: contribution de 2000$ en milieu décembre (50%)
C14: Fin | D14: =35000-1000 -> 34000 | E14: Montant au 31 déc 2020 + contribution de 2000$ (50%)
C16: Total des contributions (négatif) et des retraits (positif) | D16: =2500-2000 -> 500 | E16: Montant des contributions excluant le montant au 31 déc 2019

Sheet TRI 2019
F1: TRI | G1: =(1+IRR(D2:D14))^12 -1 -> 0.31054124
C2: Janvier | D2: -20000 | E2: Montant au 31 déc 2018
C3: Février | D3: 0
C4: Mars | D4: 0
C5: Avril | D5: 0
C6: Mai | D6: 0
C7: Juin | D7: -2500 | E7: Contribution de 5K$ en mi juin
C8: Juillet | D8: -2500 | E8: Contribution de 5K$ en mi juin
C9: Août | D9: 0
C10: Septembre | D10: 0
C11: Octobre | D11: 0
C12: Novembre | D12: 0
C13: Décembre | D13: 0
C14: Fin | D14: 32000 | E14: Montant au 31 déc 2019
C16: Total des contributions (négatif) et des retraits (positif) | D16: =-5000 -> -5000 | E16: Montant des contributions excluant le montant au 31 déc 2018

Sheet TRI 2018
F1: TRI | G1: =(1+IRR(D2:D14))^12 -1 -> -0.055196711
C2: Janvier | D2: -15000 | E2: Contribution initial de 15K$
C3: Février | D3: 0
C4: Mars | D4: 0
C5: Avril | D5: -2000 | E5: Contribution de 2K$ en début avril
C6: Mai | D6: 0
C7: Juin | D7: -2000 | E7: Contribution de 2K$ en fin mai
C8: Juillet | D8: 0
C9: Août | D9: 0
C10: Septembre | D10: 0
C11: Octobre | D11: -1000 | E11: Contribution de 2K$ en mi octobre
C12: Novembre | D12: -1000 | E12: Contribution de 2K$ en mi octobre
C13: Décembre | D13: 0
C14: Fin | D14: 20000 | E14: Montant au 31 déc 2018
C16: Total des contributions (négatif) et des retraits (positif) | D16: -6000 | E16: Ce montant ne doit pas inclure ma contribution initiale (ici 15K$)

Sheet TRI 2017
F1: TRI | G1: =(1+IRR(D2:D14))^12 -1 -> #NUM!
C2: Janvier | E2: Montant au 31 déc 2016
C3: Février | D3: 0
C4: Mars | D4: 0
C5: Avril | D5: 0
C6: Mai | D6: 0
C7: Juin | D7: 0
C8: Juillet | D8: 0
C9: Août | D9: 0
C10: Septembre | D10: 0
C11: Octobre | D11: 0
C12: Novembre | D12: 0
C13: Décembre | D13: 0
C14: Fin | D14: 0 | E14: Montant au 31 déc 2017
C16: Total des contributions (négatif) et des retraits (positif) | D16: 0

Sheet TRI 2016
F1: TRI | G1: =(1+IRR(D2:D14))^12 -1 -> #NUM!
C2: Janvier | D2: 0 | E2: Montant au 31 déc 2015
C3: Février | D3: 0
C4: Mars | D4: 0
C5: Avril | D5: 0
C6: Mai | D6: 0
C7: Juin | D7: 0
C8: Juillet | D8: 0
C9: Août | D9: 0
C10: Septembre | D10: 0
C11: Octobre | D11: 0
C12: Novembre | D12: 0
C13: Décembre | D13: 0
C14: Fin | D14: 0 | E14: Montant au 31 déc 2016
C16: Total des contributions (négatif) et des retraits (positif) | D16: 0

Sheet TRI 2015
F1: TRI | G1: =(1+IRR(D2:D14))^12 -1 -> #NUM!
C2: Janvier | D2: 0 | E2: Montant au 31 déc 2014
C3: Février | D3: 0
C4: Mars | D4: 0
C5: Avril | D5: 0
C6: Mai | D6: 0
C7: Juin | D7: 0
C8: Juillet | D8: 0
C9: Août | D9: 0
C10: Septembre | D10: 0
C11: Octobre | D11: 0
C12: Novembre | D12: 0
C13: Décembre | D13: 0
C14: Fin | D14: 0 | E14: Montant au 31 déc 2015
C16: Total des contributions (négatif) et des retraits (positif) | D16: 0

Sheet TRI 2014
F1: TRI | G1: =(1+IRR(D2:D14))^12 -1 -> #NUM!
C2: Janvier | D2: 0 | E2: Montant au 31 déc 2013
C3: Février | D3: 0
C4: Mars | D4: 0
C5: Avril | D5: 0
C6: Mai | D6: 0
C7: Juin | D7: 0
C8: Juillet | D8: 0
C9: Août | D9: 0
C10: Septembre | D10: 0
C11: Octobre | D11: 0
C12: Novembre | D12: 0
C13: Décembre | D13: 0
C14: Fin | D14: 0 | E14: Montant au 31 déc 2014
C16: Total des contributions (négatif) et des retraits (positif) | D16: 0

Sheet TRI 2013
F1: TRI | G1: =(1+IRR(D2:D14))^12 -1 -> #NUM!
C2: Janvier | D2: 0 | E2: Montant au 31 déc 2012
C3: Février | D3: 0
C4: Mars | D4: 0
C5: Avril | D5: 0
C6: Mai | D6: 0
C7: Juin | D7: 0
C8: Juillet | D8: 0
C9: Août | D9: 0
C10: Septembre | D10: 0
C11: Octobre | D11: 0
C12: Novembre | D12: 0
C13: Décembre | D13: 0
C14: Fin | D14: 0 | E14: Montant au 31 déc 2013
C16: Total des contributions (négatif) et des retraits (positif) | D16: 0

Sheet TRI 2012
F1: TRI | G1: =(1+IRR(D2:D14))^12 -1 -> #NUM!
C2: Janvier | D2: 0 | E2: Montant au 31 déc 2011
C3: Février | D3: 0
C4: Mars | D4: 0
C5: Avril | D5: 0
C6: Mai | D6: 0
C7: Juin | D7: 0
C8: Juillet | D8: 0
C9: Août | D9: 0
C10: Septembre | D10: 0
C11: Octobre | D11: 0
C12: Novembre | D12: 0
C13: Décembre | D13: 0
C14: Fin | D14: 0 | E14: Montant au 31 déc 2012
C16: Total des contributions (négatif) et des retraits (positif) | D16: 0

Sheet TRI 2011
F1: TRI | G1: =(1+IRR(D2:D14))^12 -1 -> #NUM!
C2: Janvier | D2: 0 | E2: Montant au 31 déc 2010
C3: Février | D3: 0
C4: Mars | D4: 0
C5: Avril | D5: 0
C6: Mai | D6: 0
C7: Juin | D7: 0
C8: Juillet | D8: 0
C9: Août | D9: 0
C10: Septembre | D10: 0
C11: Octobre | D11: 0
C12: Novembre | D12: 0
C13: Décembre | D13: 0
C14: Fin | D14: 0 | E14: Montant au 31 déc 2011
C16: Total des contributions (négatif) et des retraits (positif) | D16: 0

Sheet TRI 2010
F1: TRI | G1: =(1+IRR(D2:D14))^12 -1 -> #NUM!
C2: Janvier | D2: 0 | E2: Montant au 31 déc 2009
C3: Février | D3: 0
C4: Mars | D4: 0
C5: Avril | D5: 0
C6: Mai | D6: 0
C7: Juin | D7: 0
C8: Juillet | D8: 0
C9: Août | D9: 0
C10: Septembre | D10: 0
C11: Octobre | D11: 0
C12: Novembre | D12: 0
C13: Décembre | D13: 0
C14: Fin | D14: 0 | E14: Montant au 31 déc 2010
C16: Total des contributions (négatif) et des retraits (positif) | D16: 0
